BEGIN:VCALENDAR
VERSION:2.0
PRODID:-//ECKANKAR in Victoria, Tasmania &amp; South Australia - ECPv5.8.1//NONSGML v1.0//EN
CALSCALE:GREGORIAN
METHOD:PUBLISH
X-WR-CALNAME:ECKANKAR in Victoria, Tasmania &amp; South Australia
X-ORIGINAL-URL:https://eckankar-essa.org.au
X-WR-CALDESC:Events for ECKANKAR in Victoria, Tasmania &amp; South Australia
BEGIN:VTIMEZONE
TZID:Australia/Melbourne
BEGIN:STANDARD
TZOFFSETFROM:+1100
TZOFFSETTO:+1000
TZNAME:AEST
DTSTART:20260404T160000
END:STANDARD
BEGIN:DAYLIGHT
TZOFFSETFROM:+1000
TZOFFSETTO:+1100
TZNAME:AEDT
DTSTART:20261003T160000
END:DAYLIGHT
END:VTIMEZONE
BEGIN:VEVENT
DTSTART;TZID=Australia/Melbourne:20260501T200000
DTEND;TZID=Australia/Melbourne:20260501T210000
DTSTAMP:20260425T015529
CREATED:20230109T025626Z
LAST-MODIFIED:20260424T025003Z
UID:337262-1777665600-1777669200@eckankar-essa.org.au
SUMMARY:Sound of Soul Event
DESCRIPTION:Prayer\, meditation\, or contemplation—each one is a doorway to the same sacred goal\, but HU is the key that turns the lock. It’s a sacred sound that awakens the divine love and guidance already living inside you. \nJoin us for The Sound of Soul\, a special gathering for connection and community. \nWhat to expect: \nThe Seed: We start with a short\, beautiful “contemplation seed” to focus our hearts. \nAlign (The HU Chant): A 15 – 20 minute HU chant to go deeper into that contemplation and experience your own inner peace. \nConnect: A low-pressure spiritual discussion where we bridge those inner insights with our everyday lives. \nBackground doesn’t matter; curiosity does. Come as you are.
URL:https://eckankar-essa.org.au/event/sound-of-soul-event-online-2023-04-21-2023-06-02-2025-08-29-2026-05-01/
CATEGORIES:Public Events,SOS Online,Sound of Soul Events,South Australia - Public Events,Tasmania - Public Events,Victoria Metro - Public Events,Victoria Regional - Public Events
ORGANIZER;CN="ECKANKAR":MAILTO:info@eckankarssa.com.au
END:VEVENT
BEGIN:VEVENT
DTSTART;TZID=Australia/Melbourne:20260503T110000
DTEND;TZID=Australia/Melbourne:20260503T120000
DTSTAMP:20260425T015529
CREATED:20230128T070633Z
LAST-MODIFIED:20260424T025552Z
UID:335974-1777806000-1777809600@eckankar-essa.org.au
SUMMARY:ECK Light and Sound Service
DESCRIPTION:You are more than your daily routine—you are an eternal\, creative being. \nJoin us for an ECK Light and Sound Service to explore your innate ability to know divine truth. This session is a blend of shared wisdom and quiet contemplation\, featuring the HU Chant to help shift your frequency. \nIt’s an hour dedicated to having your own personal experience with the Light and Sound of God. No labels\, no judgment—just a chance to explore the spiritual principles that move through our lives. \nYou are invited to stay for refreshments and fellowship after the service.
URL:https://eckankar-essa.org.au/event/eck-light-and-sound-service-2023-04-02-2023-05-07/
LOCATION:Box Hill Community Arts Centre – VIC.\, 470 Station street\, Box Hill\, VIC\, 3128\, Australia
CATEGORIES:ECK Light and Sound Service,Public Events,Victoria Metro - Public Events,Victoria Regional - Public Events
ORGANIZER;CN="ECKANKAR":MAILTO:info@eckankarssa.com.au
END:VEVENT
BEGIN:VEVENT
DTSTART;TZID=Australia/Melbourne:20260508T200000
DTEND;TZID=Australia/Melbourne:20260508T210000
DTSTAMP:20260425T015529
CREATED:20230109T025626Z
LAST-MODIFIED:20260424T024604Z
UID:337263-1778270400-1778274000@eckankar-essa.org.au
SUMMARY:Raise Your Spiritual IQ! (Discussion)
DESCRIPTION:There’s a quiet knowing in your heart that life is meant to be more—more joyful\, more purposeful\, and more connected. The question isn’t whether that “more” exists\, but how to open the door to it. \nWe invite you to Raise Your Spiritual IQ. \nThis is a space to explore the spiritual tools that awaken the God-knowledge already living within you. We’ll discuss how Dreams\, Past Lives\, and Soul Travel aren’t just “woo-woo” concepts\, but practical keys to navigating your world. Get insights into the deep mysteries that standard logic can’t touch. Your journey to a higher awareness starts here. \nFree Download of Study Material: \nRaise Your Spiritual IQ! \n\n*We highly recommend that you download the “Raise Your Spiritual IQ – Experience Journal”\, if you are planning to attend the discussion class.\nSharing of insights etc… is optional in class\, but with the journal you have the best chance of getting the most out of your attendance.
URL:https://eckankar-essa.org.au/event/sound-of-soul-event-online-2023-04-21-2023-06-02-2025-08-29-2026-05-08/
CATEGORIES:Discussions & Workshops,Public Events,South Australia - Public Events,Tasmania - Public Events,Victoria Metro - Public Events,Victoria Regional - Public Events
ORGANIZER;CN="ECKANKAR":MAILTO:info@eckankarssa.com.au
END:VEVENT
BEGIN:VEVENT
DTSTART;TZID=Australia/Melbourne:20260515T200000
DTEND;TZID=Australia/Melbourne:20260515T210000
DTSTAMP:20260425T015529
CREATED:20230109T025626Z
LAST-MODIFIED:20260424T025046Z
UID:337264-1778875200-1778878800@eckankar-essa.org.au
SUMMARY:Sound of Soul Event
DESCRIPTION:Prayer\, meditation\, or contemplation—each one is a doorway to the same sacred goal\, but HU is the key that turns the lock. It’s a sacred sound that awakens the divine love and guidance already living inside you. \nJoin us for The Sound of Soul\, a special gathering for connection and community. \nWhat to expect: \nThe Seed: We start with a short\, beautiful “contemplation seed” to focus our hearts. \nAlign (The HU Chant): A 15 – 20 minute HU chant to go deeper into that contemplation and experience your own inner peace. \nConnect: A low-pressure spiritual discussion where we bridge those inner insights with our everyday lives. \nBackground doesn’t matter; curiosity does. Come as you are.
URL:https://eckankar-essa.org.au/event/sound-of-soul-event-online-2023-04-21-2023-06-02-2025-08-29-2026-05-15/
CATEGORIES:Public Events,SOS Online,Sound of Soul Events,South Australia - Public Events,Tasmania - Public Events,Victoria Metro - Public Events,Victoria Regional - Public Events
ORGANIZER;CN="ECKANKAR":MAILTO:info@eckankarssa.com.au
END:VEVENT
BEGIN:VEVENT
DTSTART;TZID=Australia/Melbourne:20260522T200000
DTEND;TZID=Australia/Melbourne:20260522T210000
DTSTAMP:20260425T015529
CREATED:20230109T025626Z
LAST-MODIFIED:20260424T025253Z
UID:337265-1779480000-1779483600@eckankar-essa.org.au
SUMMARY:HU Song Event
DESCRIPTION:HU is an ancient\, sacred name for God. It is a love song to the Divine – a simple spiritual practice that can open the heart\, uplift the soul\, and bring a greater sense of peace\, clarity\, and inner connection. \nWhen sung with openness and love\, HU can help attune you to the presence of divine love already flowing through all life – through every blade of grass\, every breath\, every moment. \nTune in to experience for yourself the sacred sound of HU and discover why so many have found it to be a powerful tool for spiritual awakening\, healing\, creativity\, and inner guidance. \nWe will start with a short inspirational quote\, then sing the HU mantra with a recording of thousands of HU-singers in the background. The HU song will last for 20 min. \nIf you are new to the HU or to ECKANKAR – you are welcome to stay online after the HU has ended if you would like to share any insights\, or if you have any questions. \nAnyone can join in regardless of background or faith. The HU has helped people of many different faiths experience the presence of God in their lives.
URL:https://eckankar-essa.org.au/event/sound-of-soul-event-online-2023-04-21-2023-06-02-2025-08-29-2026-05-22/
CATEGORIES:Public Events,SOS Online,Sound of Soul Events,South Australia - Public Events,Tasmania - Public Events,Victoria Metro - Public Events,Victoria Regional - Public Events
ORGANIZER;CN="ECKANKAR":MAILTO:info@eckankarssa.com.au
END:VEVENT
BEGIN:VEVENT
DTSTART;TZID=Australia/Melbourne:20260529T200000
DTEND;TZID=Australia/Melbourne:20260529T210000
DTSTAMP:20260425T015529
CREATED:20230109T025626Z
LAST-MODIFIED:20260424T024750Z
UID:337266-1780084800-1780088400@eckankar-essa.org.au
SUMMARY:Raise Your Spiritual IQ! Youth (Discussion)
DESCRIPTION:There’s a quiet knowing in your heart that life is meant to be more—more joyful\, more purposeful\, and more connected. The question isn’t whether that “more” exists\, but how to open the door to it. \nWe invite you to Raise Your Spiritual IQ. \nThis is a space to explore the spiritual tools that awaken the God-knowledge already living within you. We’ll discuss how Dreams\, Past Lives\, and Soul Travel aren’t just “woo-woo” concepts\, but practical keys to navigating your world. Get insights into the deep mysteries that standard logic can’t touch. Your journey to a higher awareness starts here. \nFree Download of Study Material: \nRaise Your Spiritual IQ! \n\n*We highly recommend that you download the “Raise Your Spiritual IQ – Experience Journal”\, if you are planning to attend the discussion class.\nSharing of insights etc… is optional in class\, but with the journal you have the best chance of getting the most out of your attendance.
URL:https://eckankar-essa.org.au/event/sound-of-soul-event-online-2023-04-21-2023-06-02-2025-08-29-2026-05-29/
CATEGORIES:Discussions & Workshops,Public Events,South Australia - Public Events,Tasmania - Public Events,Victoria Metro - Public Events,Victoria Regional - Public Events
ORGANIZER;CN="ECKANKAR":MAILTO:info@eckankarssa.com.au
END:VEVENT
BEGIN:VEVENT
DTSTART;TZID=Australia/Melbourne:20260605T200000
DTEND;TZID=Australia/Melbourne:20260605T210000
DTSTAMP:20260425T015529
CREATED:20230109T025626Z
LAST-MODIFIED:20260326T225020Z
UID:337267-1780689600-1780693200@eckankar-essa.org.au
SUMMARY:Sound of Soul Event
DESCRIPTION:The Sound of Soul Events offer you the opportunity to chant HU\, an ancient name for God\, and engage in spiritual conversation. Meet others of like heart who share a desire to explore their own connection with God. At the event there will be a 20 minutes HU Chant followed by spiritual conversation.
URL:https://eckankar-essa.org.au/event/sound-of-soul-event-online-2023-04-21-2023-06-02-2025-08-29-2026-06-05/
CATEGORIES:Public Events,SOS Online,Sound of Soul Events,South Australia - Public Events,Tasmania - Public Events,Victoria Metro - Public Events,Victoria Regional - Public Events
ORGANIZER;CN="ECKANKAR":MAILTO:info@eckankarssa.com.au
END:VEVENT
BEGIN:VEVENT
DTSTART;TZID=Australia/Melbourne:20260607T110000
DTEND;TZID=Australia/Melbourne:20260607T120000
DTSTAMP:20260425T015529
CREATED:20230128T070633Z
LAST-MODIFIED:20260225T195023Z
UID:337236-1780830000-1780833600@eckankar-essa.org.au
SUMMARY:ECK Light and Sound Service
DESCRIPTION:ECK Light and Sound service focuses on spiritual principles at work in our lives. You will hear inspiring spiritual stories\, experience the HU Chant\, and be able to speak with other like-hearted spiritual seekers. \nJoin others seeking to bring more insight and divine love into their lives at this special celebration of the Light and Sound of God.
URL:https://eckankar-essa.org.au/event/eck-light-and-sound-service-2023-04-02-2023-05-07-2026-06-07/
LOCATION:Box Hill Community Arts Centre – VIC.\, 470 Station street\, Box Hill\, VIC\, 3128\, Australia
CATEGORIES:ECK Light and Sound Service,Public Events,Victoria Metro - Public Events,Victoria Regional - Public Events
ORGANIZER;CN="ECKANKAR":MAILTO:info@eckankarssa.com.au
END:VEVENT
BEGIN:VEVENT
DTSTART;TZID=Australia/Melbourne:20260612T200000
DTEND;TZID=Australia/Melbourne:20260612T210000
DTSTAMP:20260425T015529
CREATED:20230109T025626Z
LAST-MODIFIED:20260326T225251Z
UID:337268-1781294400-1781298000@eckankar-essa.org.au
SUMMARY:Raise Your Spiritual IQ! (Discussion)
DESCRIPTION:Explore spiritual tools to awaken the God-knowledge within. Find out how Dreams\, Past Lives and Soul Travel can help you make sense of everyday life and give insights into the deeper questions that most people have no answer for.
URL:https://eckankar-essa.org.au/event/sound-of-soul-event-online-2023-04-21-2023-06-02-2025-08-29-2026-06-12/
CATEGORIES:Discussions & Workshops,Public Events,South Australia - Public Events,Tasmania - Public Events,Victoria Metro - Public Events,Victoria Regional - Public Events
ORGANIZER;CN="ECKANKAR":MAILTO:info@eckankarssa.com.au
END:VEVENT
BEGIN:VEVENT
DTSTART;TZID=Australia/Melbourne:20260619T200000
DTEND;TZID=Australia/Melbourne:20260619T210000
DTSTAMP:20260425T015529
CREATED:20230109T025626Z
LAST-MODIFIED:20260326T225412Z
UID:337269-1781899200-1781902800@eckankar-essa.org.au
SUMMARY:Sound of Soul Event
DESCRIPTION:The Sound of Soul Events offer you the opportunity to chant HU\, an ancient name for God\, and engage in spiritual conversation. Meet others of like heart who share a desire to explore their own connection with God. At the event there will be a 20 minutes HU Chant followed by spiritual conversation.
URL:https://eckankar-essa.org.au/event/sound-of-soul-event-online-2023-04-21-2023-06-02-2025-08-29-2026-06-19/
CATEGORIES:Public Events,SOS Online,Sound of Soul Events,South Australia - Public Events,Tasmania - Public Events,Victoria Metro - Public Events,Victoria Regional - Public Events
ORGANIZER;CN="ECKANKAR":MAILTO:info@eckankarssa.com.au
END:VEVENT
BEGIN:VEVENT
DTSTART;TZID=Australia/Melbourne:20260626T200000
DTEND;TZID=Australia/Melbourne:20260626T210000
DTSTAMP:20260425T015529
CREATED:20230109T025626Z
LAST-MODIFIED:20260326T225849Z
UID:337270-1782504000-1782507600@eckankar-essa.org.au
SUMMARY:HU Song Event
DESCRIPTION:This event offer you the opportunity to chant HU\, an ancient name for God\, and engage in spiritual conversation. Meet others of like heart who share a desire to explore their own connection with God. At the event there will be a 20 minutes HU Chant followed by spiritual conversation.
URL:https://eckankar-essa.org.au/event/sound-of-soul-event-online-2023-04-21-2023-06-02-2025-08-29-2026-06-26/
CATEGORIES:Public Events,SOS Online,Sound of Soul Events,South Australia - Public Events,Tasmania - Public Events,Victoria Metro - Public Events,Victoria Regional - Public Events
ORGANIZER;CN="ECKANKAR":MAILTO:info@eckankarssa.com.au
END:VEVENT
END:VCALENDAR