BEGIN:VCALENDAR
VERSION:2.0
PRODID:-//ECKANKAR in Victoria, Tasmania &amp; South Australia - ECPv4.9.6//NONSGML v1.0//EN
CALSCALE:GREGORIAN
METHOD:PUBLISH
X-WR-CALNAME:ECKANKAR in Victoria, Tasmania &amp; South Australia
X-ORIGINAL-URL:https://eckankar-essa.org.au
X-WR-CALDESC:Events for ECKANKAR in Victoria, Tasmania &amp; South Australia
BEGIN:VTIMEZONE
TZID:"Europe/Paris"
BEGIN:DAYLIGHT
TZOFFSETFROM:+0100
TZOFFSETTO:+0200
TZNAME:CEST
DTSTART:20200329T010000
END:DAYLIGHT
BEGIN:STANDARD
TZOFFSETFROM:+0200
TZOFFSETTO:+0100
TZNAME:CET
DTSTART:20201025T010000
END:STANDARD
BEGIN:DAYLIGHT
TZOFFSETFROM:+0100
TZOFFSETTO:+0200
TZNAME:CEST
DTSTART:20210328T010000
END:DAYLIGHT
BEGIN:STANDARD
TZOFFSETFROM:+0200
TZOFFSETTO:+0100
TZNAME:CET
DTSTART:20211031T010000
END:STANDARD
END:VTIMEZONE
BEGIN:VEVENT
DTSTART;TZID="Europe/Paris":20200220T180000
DTEND;TZID="Europe/Paris":20200220T190000
DTSTAMP:20210224T031322
CREATED:20200131T220516Z
LAST-MODIFIED:20210101T115738Z
UID:5608-1582221600-1582225200@eckankar-essa.org.au
SUMMARY:Satsang "The Master 1 Discourses"  - Vic
DESCRIPTION:\n			\n			\n				Arahat Name: Yalena. Please contact the Arahata for the Zoom 8 details. Thank you. \n\n			\n			\n		
URL:https://eckankar-essa.org.au/event/satsang-class-moorabbin-vic/2020-02-20/
LOCATION:Zoom 8\, Victoria\, Australia
CATEGORIES:Members Only Events,Satsang Class,Victoria Metro - chela events
ORGANIZER;CN="ECKANKAR":MAILTO:info@eckankarssa.com.au
END:VEVENT
BEGIN:VEVENT
DTSTART;TZID="Europe/Paris":20200523T100000
DTEND;TZID="Europe/Paris":20200523T110000
DTSTAMP:20210224T031322
CREATED:20200525T014056Z
LAST-MODIFIED:20210101T120607Z
UID:5746-1590228000-1590231600@eckankar-essa.org.au
SUMMARY:Satsang "The ECK Dream 2 Discourses"  - Vic
DESCRIPTION:\n			\n			\n				Arahat Name: Mer. Please contact the Arahata for the Zoom 4 details. Thank you. \n\n			\n			\n		
URL:https://eckankar-essa.org.au/event/satsang-the-eck-dream-2-discourses-vic/2020-05-23/
LOCATION:Zoom 4\, Victoria\, Australia
CATEGORIES:Members Only Events,Satsang Class,Victoria Metro - chela events
ORGANIZER;CN="ECKANKAR":MAILTO:info@eckankarssa.com.au
END:VEVENT
BEGIN:VEVENT
DTSTART;TZID="Europe/Paris":20200615T150000
DTEND;TZID="Europe/Paris":20200615T160000
DTSTAMP:20210224T031322
CREATED:20200525T031534Z
LAST-MODIFIED:20210101T120941Z
UID:5764-1592233200-1592236800@eckankar-essa.org.au
SUMMARY:Satsang  "The Master 4 Discourses"  - Vic
DESCRIPTION:\n			\n			\n				Arahat Name: Kate. Please contact the Arahata for the Zoom 6 details. Thank you. \n\n			\n			\n		
URL:https://eckankar-essa.org.au/event/satsang-class-moorabbin-vic-3/2020-06-15/
LOCATION:Zoom 6\, Victoria\, Australia
CATEGORIES:Members Only Events,Satsang Class,Victoria Metro - chela events
ORGANIZER;CN="ECKANKAR":MAILTO:info@eckankarssa.com.au
END:VEVENT
BEGIN:VEVENT
DTSTART;TZID="Europe/Paris":20201226T100000
DTEND;TZID="Europe/Paris":20201226T110000
DTSTAMP:20210224T031322
CREATED:20200525T014056Z
LAST-MODIFIED:20200525T014056Z
UID:6168-1608976800-1608980400@eckankar-essa.org.au
SUMMARY:Satsang "Dream 2 Discourses"  - Vic
DESCRIPTION:\n			\n			\n				\n			\n			\n		
URL:https://eckankar-essa.org.au/event/satsang-the-eck-dream-2-discourses-vic/2020-12-26/
LOCATION:Zoom 4\, Victoria\, Australia
CATEGORIES:Members Only Events,Satsang Class,Victoria Metro - chela events
ORGANIZER;CN="ECKANKAR":MAILTO:info@eckankarssa.com.au
END:VEVENT
BEGIN:VEVENT
DTSTART;TZID="Europe/Paris":20201226T100000
DTEND;TZID="Europe/Paris":20201226T110000
DTSTAMP:20210224T031322
CREATED:20200525T014056Z
LAST-MODIFIED:20200525T014056Z
UID:6189-1608976800-1608980400@eckankar-essa.org.au
SUMMARY:Satsang "The ECK Dream 2 Discourses"  - Vic
DESCRIPTION:\n			\n			\n				Contact Mer fir details. \n\n			\n			\n		
URL:https://eckankar-essa.org.au/event/satsang-the-eck-dream-2-discourses-vic/2020-12-26/
LOCATION:Zoom 4\, Victoria\, Australia
CATEGORIES:Members Only Events,Satsang Class,Victoria Metro - chela events
ORGANIZER;CN="ECKANKAR":MAILTO:info@eckankarssa.com.au
END:VEVENT
BEGIN:VEVENT
DTSTART;TZID="Europe/Paris":20201227T150000
DTEND;TZID="Europe/Paris":20201227T160000
DTSTAMP:20210224T031322
CREATED:20200525T031534Z
LAST-MODIFIED:20200525T031534Z
UID:6129-1609081200-1609084800@eckankar-essa.org.au
SUMMARY:Satsang Class - Moorabbin Vic
DESCRIPTION:\n			\n			\n				\n			\n			\n		
URL:https://eckankar-essa.org.au/event/satsang-class-moorabbin-vic-3/2020-12-27/
LOCATION:Zoom 6\, Victoria\, Australia
CATEGORIES:Members Only Events,Satsang Class,Victoria Metro - chela events
ORGANIZER;CN="ECKANKAR":MAILTO:info@eckankarssa.com.au
END:VEVENT
BEGIN:VEVENT
DTSTART;TZID="Europe/Paris":20210103T110000
DTEND;TZID="Europe/Paris":20210103T120000
DTSTAMP:20210224T031322
CREATED:20210101T102153Z
LAST-MODIFIED:20210101T114625Z
UID:6200-1609671600-1609675200@eckankar-essa.org.au
SUMMARY:Satsang "The Precepts of Eckankar"  - Vic
DESCRIPTION:\n			\n			\n				Arahat Name: Maisie. Please contact the Arahata for the Telconference 3 details. Thank you. \n\n			\n			\n		
URL:https://eckankar-essa.org.au/event/satsang-the-precepts-of-eckankar-vic/2021-01-03/
LOCATION:Teleconference 3\, Victoria\, Australia
CATEGORIES:Members Only Events,Satsang Class,Victoria Metro - chela events
ORGANIZER;CN="ECKANKAR":MAILTO:info@eckankarssa.com.au
END:VEVENT
BEGIN:VEVENT
DTSTART;TZID="Europe/Paris":20210112T210000
DTEND;TZID="Europe/Paris":20210112T220000
DTSTAMP:20210224T031322
CREATED:20210101T103558Z
LAST-MODIFIED:20210101T115017Z
UID:6205-1610485200-1610488800@eckankar-essa.org.au
SUMMARY:Satsang "Letters of Light and Sound 2" (persian)  -  vic
DESCRIPTION:\n			\n			\n				Arahat Name: Sherry. Please contact the Arahata for the Telconference 4 details. Thank you. \n\n			\n			\n		
URL:https://eckankar-essa.org.au/event/satsang-letters-of-light-and-sound-2-persian-vic/2021-01-12/
LOCATION:Teleconference 4\, Victoria\, Australia
CATEGORIES:Members Only Events,Satsang Class,Victoria Metro - chela events
ORGANIZER;CN="ECKANKAR":MAILTO:info@eckankarssa.com.au
END:VEVENT
BEGIN:VEVENT
DTSTART;TZID="Europe/Paris":20210121T180000
DTEND;TZID="Europe/Paris":20210121T190000
DTSTAMP:20210224T031322
CREATED:20200131T220516Z
LAST-MODIFIED:20210101T115739Z
UID:6164-1611252000-1611255600@eckankar-essa.org.au
SUMMARY:Satsang "The Master 1 Discourses"  - Vic
DESCRIPTION:\n			\n			\n				Arahat Name: Yalena. Please contact the Arahata for the Zoom 8 details. Thank you. \n\n			\n			\n		
URL:https://eckankar-essa.org.au/event/satsang-class-moorabbin-vic/2021-01-21/
LOCATION:Zoom 8\, Victoria\, Australia
CATEGORIES:Members Only Events,Satsang Class,Victoria Metro - chela events
ORGANIZER;CN="ECKANKAR":MAILTO:info@eckankarssa.com.au
END:VEVENT
BEGIN:VEVENT
DTSTART;TZID="Europe/Paris":20210121T193000
DTEND;TZID="Europe/Paris":20210121T203000
DTSTAMP:20210224T031322
CREATED:20210101T112129Z
LAST-MODIFIED:20210101T120219Z
UID:6213-1611257400-1611261000@eckankar-essa.org.au
SUMMARY:Satsang "Letters of Light and Sound 2"  -  Vic
DESCRIPTION:\n			\n			\n				Arahat Name: Richard. Please contact the Arahata for the Telconference 1 details. Thank you. \n\n			\n			\n		
URL:https://eckankar-essa.org.au/event/satsang-letters-of-light-and-sound-2-vic/2021-01-21/
LOCATION:Teleconference 1\, Victoria\, Australia
CATEGORIES:Members Only Events,Satsang Class,Victoria Metro - chela events
ORGANIZER;CN="ECKANKAR":MAILTO:info@eckankarssa.com.au
END:VEVENT
BEGIN:VEVENT
DTSTART;TZID="Europe/Paris":20210121T200000
DTEND;TZID="Europe/Paris":20210121T210000
DTSTAMP:20210224T031322
CREATED:20210101T122051Z
LAST-MODIFIED:20210101T122051Z
UID:6262-1611259200-1611262800@eckankar-essa.org.au
SUMMARY:Satsang "The ECK Satsang Discourses Third Series"  -  Vic
DESCRIPTION:\n			\n			\n				Arahat Name: Lesley. Please contact the Arahata for the Zoom 5 details. Thank you. \n\n			\n			\n		
URL:https://eckankar-essa.org.au/event/satsang-the-eck-satsang-discourses-third-series-vic/2021-01-21/
LOCATION:Zoom 5\, Victoria\, Australia
CATEGORIES:Members Only Events,Satsang Class,Victoria Metro - chela events
ORGANIZER;CN="ECKANKAR":MAILTO:info@eckankarssa.com.au
END:VEVENT
BEGIN:VEVENT
DTSTART;TZID="Europe/Paris":20210123T100000
DTEND;TZID="Europe/Paris":20210123T110000
DTSTAMP:20210224T031322
CREATED:20200525T014056Z
LAST-MODIFIED:20210101T120607Z
UID:6169-1611396000-1611399600@eckankar-essa.org.au
SUMMARY:Satsang "The ECK Dream 2 Discourses"  - Vic
DESCRIPTION:\n			\n			\n				Arahat Name: Mer. Please contact the Arahata for the Zoom 4 details. Thank you. \n\n			\n			\n		
URL:https://eckankar-essa.org.au/event/satsang-the-eck-dream-2-discourses-vic/2021-01-23/
LOCATION:Zoom 4\, Victoria\, Australia
CATEGORIES:Members Only Events,Satsang Class,Victoria Metro - chela events
ORGANIZER;CN="ECKANKAR":MAILTO:info@eckankarssa.com.au
END:VEVENT
BEGIN:VEVENT
DTSTART;TZID="Europe/Paris":20210124T150000
DTEND;TZID="Europe/Paris":20210124T160000
DTSTAMP:20210224T031322
CREATED:20200525T031534Z
LAST-MODIFIED:20210101T120942Z
UID:6130-1611500400-1611504000@eckankar-essa.org.au
SUMMARY:Satsang  "The Master 4 Discourses"  - Vic
DESCRIPTION:\n			\n			\n				Arahat Name: Kate. Please contact the Arahata for the Zoom 6 details. Thank you. \n\n			\n			\n		
URL:https://eckankar-essa.org.au/event/satsang-class-moorabbin-vic-3/2021-01-24/
LOCATION:Zoom 6\, Victoria\, Australia
CATEGORIES:Members Only Events,Satsang Class,Victoria Metro - chela events
ORGANIZER;CN="ECKANKAR":MAILTO:info@eckankarssa.com.au
END:VEVENT
BEGIN:VEVENT
DTSTART;TZID="Europe/Paris":20210207T110000
DTEND;TZID="Europe/Paris":20210207T120000
DTSTAMP:20210224T031322
CREATED:20210101T102153Z
LAST-MODIFIED:20210101T114626Z
UID:6202-1612695600-1612699200@eckankar-essa.org.au
SUMMARY:Satsang "The Precepts of Eckankar"  - Vic
DESCRIPTION:\n			\n			\n				Arahat Name: Maisie. Please contact the Arahata for the Telconference 3 details. Thank you. \n\n			\n			\n		
URL:https://eckankar-essa.org.au/event/satsang-the-precepts-of-eckankar-vic/2021-02-07/
LOCATION:Teleconference 3\, Victoria\, Australia
CATEGORIES:Members Only Events,Satsang Class,Victoria Metro - chela events
ORGANIZER;CN="ECKANKAR":MAILTO:info@eckankarssa.com.au
END:VEVENT
BEGIN:VEVENT
DTSTART;TZID="Europe/Paris":20210209T210000
DTEND;TZID="Europe/Paris":20210209T220000
DTSTAMP:20210224T031322
CREATED:20210101T103558Z
LAST-MODIFIED:20210101T115018Z
UID:6207-1612904400-1612908000@eckankar-essa.org.au
SUMMARY:Satsang "Letters of Light and Sound 2" (persian)  -  vic
DESCRIPTION:\n			\n			\n				Arahat Name: Sherry. Please contact the Arahata for the Telconference 4 details. Thank you. \n\n			\n			\n		
URL:https://eckankar-essa.org.au/event/satsang-letters-of-light-and-sound-2-persian-vic/2021-02-09/
LOCATION:Teleconference 4\, Victoria\, Australia
CATEGORIES:Members Only Events,Satsang Class,Victoria Metro - chela events
ORGANIZER;CN="ECKANKAR":MAILTO:info@eckankarssa.com.au
END:VEVENT
BEGIN:VEVENT
DTSTART;TZID="Europe/Paris":20210218T193000
DTEND;TZID="Europe/Paris":20210218T203000
DTSTAMP:20210224T031322
CREATED:20210101T112129Z
LAST-MODIFIED:20210101T120219Z
UID:6215-1613676600-1613680200@eckankar-essa.org.au
SUMMARY:Satsang "Letters of Light and Sound 2"  -  Vic
DESCRIPTION:\n			\n			\n				Arahat Name: Richard. Please contact the Arahata for the Telconference 1 details. Thank you. \n\n			\n			\n		
URL:https://eckankar-essa.org.au/event/satsang-letters-of-light-and-sound-2-vic/2021-02-18/
LOCATION:Teleconference 1\, Victoria\, Australia
CATEGORIES:Members Only Events,Satsang Class,Victoria Metro - chela events
ORGANIZER;CN="ECKANKAR":MAILTO:info@eckankarssa.com.au
END:VEVENT
BEGIN:VEVENT
DTSTART;TZID="Europe/Paris":20210218T200000
DTEND;TZID="Europe/Paris":20210218T210000
DTSTAMP:20210224T031322
CREATED:20210101T122051Z
LAST-MODIFIED:20210101T122051Z
UID:6264-1613678400-1613682000@eckankar-essa.org.au
SUMMARY:Satsang "The ECK Satsang Discourses Third Series"  -  Vic
DESCRIPTION:\n			\n			\n				Arahat Name: Lesley. Please contact the Arahata for the Zoom 5 details. Thank you. \n\n			\n			\n		
URL:https://eckankar-essa.org.au/event/satsang-the-eck-satsang-discourses-third-series-vic/2021-02-18/
LOCATION:Zoom 5\, Victoria\, Australia
CATEGORIES:Members Only Events,Satsang Class,Victoria Metro - chela events
ORGANIZER;CN="ECKANKAR":MAILTO:info@eckankarssa.com.au
END:VEVENT
BEGIN:VEVENT
DTSTART;TZID="Europe/Paris":20210227T100000
DTEND;TZID="Europe/Paris":20210227T110000
DTSTAMP:20210224T031322
CREATED:20200525T014056Z
LAST-MODIFIED:20210101T120608Z
UID:6170-1614420000-1614423600@eckankar-essa.org.au
SUMMARY:Satsang "The ECK Dream 2 Discourses"  - Vic
DESCRIPTION:\n			\n			\n				Arahat Name: Mer. Please contact the Arahata for the Zoom 4 details. Thank you. \n\n			\n			\n		
URL:https://eckankar-essa.org.au/event/satsang-the-eck-dream-2-discourses-vic/2021-02-27/
LOCATION:Zoom 4\, Victoria\, Australia
CATEGORIES:Members Only Events,Satsang Class,Victoria Metro - chela events
ORGANIZER;CN="ECKANKAR":MAILTO:info@eckankarssa.com.au
END:VEVENT
BEGIN:VEVENT
DTSTART;TZID="Europe/Paris":20210228T150000
DTEND;TZID="Europe/Paris":20210228T160000
DTSTAMP:20210224T031322
CREATED:20200525T031534Z
LAST-MODIFIED:20210101T120942Z
UID:6131-1614524400-1614528000@eckankar-essa.org.au
SUMMARY:Satsang  "The Master 4 Discourses"  - Vic
DESCRIPTION:\n			\n			\n				Arahat Name: Kate. Please contact the Arahata for the Zoom 6 details. Thank you. \n\n			\n			\n		
URL:https://eckankar-essa.org.au/event/satsang-class-moorabbin-vic-3/2021-02-28/
LOCATION:Zoom 6\, Victoria\, Australia
CATEGORIES:Members Only Events,Satsang Class,Victoria Metro - chela events
ORGANIZER;CN="ECKANKAR":MAILTO:info@eckankarssa.com.au
END:VEVENT
BEGIN:VEVENT
DTSTART;TZID="Europe/Paris":20210307T110000
DTEND;TZID="Europe/Paris":20210307T120000
DTSTAMP:20210224T031322
CREATED:20210101T102153Z
LAST-MODIFIED:20210101T114626Z
UID:6203-1615114800-1615118400@eckankar-essa.org.au
SUMMARY:Satsang "The Precepts of Eckankar"  - Vic
DESCRIPTION:\n			\n			\n				Arahat Name: Maisie. Please contact the Arahata for the Telconference 3 details. Thank you. \n\n			\n			\n		
URL:https://eckankar-essa.org.au/event/satsang-the-precepts-of-eckankar-vic/2021-03-07/
LOCATION:Teleconference 3\, Victoria\, Australia
CATEGORIES:Members Only Events,Satsang Class,Victoria Metro - chela events
ORGANIZER;CN="ECKANKAR":MAILTO:info@eckankarssa.com.au
END:VEVENT
BEGIN:VEVENT
DTSTART;TZID="Europe/Paris":20210309T210000
DTEND;TZID="Europe/Paris":20210309T220000
DTSTAMP:20210224T031322
CREATED:20210101T103558Z
LAST-MODIFIED:20210101T115018Z
UID:6208-1615323600-1615327200@eckankar-essa.org.au
SUMMARY:Satsang "Letters of Light and Sound 2" (persian)  -  vic
DESCRIPTION:\n			\n			\n				Arahat Name: Sherry. Please contact the Arahata for the Telconference 4 details. Thank you. \n\n			\n			\n		
URL:https://eckankar-essa.org.au/event/satsang-letters-of-light-and-sound-2-persian-vic/2021-03-09/
LOCATION:Teleconference 4\, Victoria\, Australia
CATEGORIES:Members Only Events,Satsang Class,Victoria Metro - chela events
ORGANIZER;CN="ECKANKAR":MAILTO:info@eckankarssa.com.au
END:VEVENT
BEGIN:VEVENT
DTSTART;TZID="Europe/Paris":20210318T193000
DTEND;TZID="Europe/Paris":20210318T203000
DTSTAMP:20210224T031322
CREATED:20210101T112129Z
LAST-MODIFIED:20210101T120219Z
UID:6216-1616095800-1616099400@eckankar-essa.org.au
SUMMARY:Satsang "Letters of Light and Sound 2"  -  Vic
DESCRIPTION:\n			\n			\n				Arahat Name: Richard. Please contact the Arahata for the Telconference 1 details. Thank you. \n\n			\n			\n		
URL:https://eckankar-essa.org.au/event/satsang-letters-of-light-and-sound-2-vic/2021-03-18/
LOCATION:Teleconference 1\, Victoria\, Australia
CATEGORIES:Members Only Events,Satsang Class,Victoria Metro - chela events
ORGANIZER;CN="ECKANKAR":MAILTO:info@eckankarssa.com.au
END:VEVENT
BEGIN:VEVENT
DTSTART;TZID="Europe/Paris":20210318T200000
DTEND;TZID="Europe/Paris":20210318T210000
DTSTAMP:20210224T031322
CREATED:20210101T122051Z
LAST-MODIFIED:20210101T122051Z
UID:6265-1616097600-1616101200@eckankar-essa.org.au
SUMMARY:Satsang "The ECK Satsang Discourses Third Series"  -  Vic
DESCRIPTION:\n			\n			\n				Arahat Name: Lesley. Please contact the Arahata for the Zoom 5 details. Thank you. \n\n			\n			\n		
URL:https://eckankar-essa.org.au/event/satsang-the-eck-satsang-discourses-third-series-vic/2021-03-18/
LOCATION:Zoom 5\, Victoria\, Australia
CATEGORIES:Members Only Events,Satsang Class,Victoria Metro - chela events
ORGANIZER;CN="ECKANKAR":MAILTO:info@eckankarssa.com.au
END:VEVENT
BEGIN:VEVENT
DTSTART;TZID="Europe/Paris":20210327T100000
DTEND;TZID="Europe/Paris":20210327T110000
DTSTAMP:20210224T031322
CREATED:20200525T014056Z
LAST-MODIFIED:20210101T120608Z
UID:6171-1616839200-1616842800@eckankar-essa.org.au
SUMMARY:Satsang "The ECK Dream 2 Discourses"  - Vic
DESCRIPTION:\n			\n			\n				Arahat Name: Mer. Please contact the Arahata for the Zoom 4 details. Thank you. \n\n			\n			\n		
URL:https://eckankar-essa.org.au/event/satsang-the-eck-dream-2-discourses-vic/2021-03-27/
LOCATION:Zoom 4\, Victoria\, Australia
CATEGORIES:Members Only Events,Satsang Class,Victoria Metro - chela events
ORGANIZER;CN="ECKANKAR":MAILTO:info@eckankarssa.com.au
END:VEVENT
BEGIN:VEVENT
DTSTART;TZID="Europe/Paris":20210328T150000
DTEND;TZID="Europe/Paris":20210328T160000
DTSTAMP:20210224T031322
CREATED:20200525T031534Z
LAST-MODIFIED:20210101T120942Z
UID:6132-1616943600-1616947200@eckankar-essa.org.au
SUMMARY:Satsang  "The Master 4 Discourses"  - Vic
DESCRIPTION:\n			\n			\n				Arahat Name: Kate. Please contact the Arahata for the Zoom 6 details. Thank you. \n\n			\n			\n		
URL:https://eckankar-essa.org.au/event/satsang-class-moorabbin-vic-3/2021-03-28/
LOCATION:Zoom 6\, Victoria\, Australia
CATEGORIES:Members Only Events,Satsang Class,Victoria Metro - chela events
ORGANIZER;CN="ECKANKAR":MAILTO:info@eckankarssa.com.au
END:VEVENT
BEGIN:VEVENT
DTSTART;TZID="Europe/Paris":20210404T110000
DTEND;TZID="Europe/Paris":20210404T120000
DTSTAMP:20210224T031322
CREATED:20210101T102153Z
LAST-MODIFIED:20210101T114627Z
UID:6204-1617534000-1617537600@eckankar-essa.org.au
SUMMARY:Satsang "The Precepts of Eckankar"  - Vic
DESCRIPTION:\n			\n			\n				Arahat Name: Maisie. Please contact the Arahata for the Telconference 3 details. Thank you. \n\n			\n			\n		
URL:https://eckankar-essa.org.au/event/satsang-the-precepts-of-eckankar-vic/2021-04-04/
LOCATION:Teleconference 3\, Victoria\, Australia
CATEGORIES:Members Only Events,Satsang Class,Victoria Metro - chela events
ORGANIZER;CN="ECKANKAR":MAILTO:info@eckankarssa.com.au
END:VEVENT
BEGIN:VEVENT
DTSTART;TZID="Europe/Paris":20210413T210000
DTEND;TZID="Europe/Paris":20210413T220000
DTSTAMP:20210224T031322
CREATED:20210101T103558Z
LAST-MODIFIED:20210101T115018Z
UID:6209-1618347600-1618351200@eckankar-essa.org.au
SUMMARY:Satsang "Letters of Light and Sound 2" (persian)  -  vic
DESCRIPTION:\n			\n			\n				Arahat Name: Sherry. Please contact the Arahata for the Telconference 4 details. Thank you. \n\n			\n			\n		
URL:https://eckankar-essa.org.au/event/satsang-letters-of-light-and-sound-2-persian-vic/2021-04-13/
LOCATION:Teleconference 4\, Victoria\, Australia
CATEGORIES:Members Only Events,Satsang Class,Victoria Metro - chela events
ORGANIZER;CN="ECKANKAR":MAILTO:info@eckankarssa.com.au
END:VEVENT
BEGIN:VEVENT
DTSTART;TZID="Europe/Paris":20210415T193000
DTEND;TZID="Europe/Paris":20210415T203000
DTSTAMP:20210224T031322
CREATED:20210101T112129Z
LAST-MODIFIED:20210101T120219Z
UID:6217-1618515000-1618518600@eckankar-essa.org.au
SUMMARY:Satsang "Letters of Light and Sound 2"  -  Vic
DESCRIPTION:\n			\n			\n				Arahat Name: Richard. Please contact the Arahata for the Telconference 1 details. Thank you. \n\n			\n			\n		
URL:https://eckankar-essa.org.au/event/satsang-letters-of-light-and-sound-2-vic/2021-04-15/
LOCATION:Teleconference 1\, Victoria\, Australia
CATEGORIES:Members Only Events,Satsang Class,Victoria Metro - chela events
ORGANIZER;CN="ECKANKAR":MAILTO:info@eckankarssa.com.au
END:VEVENT
BEGIN:VEVENT
DTSTART;TZID="Europe/Paris":20210415T200000
DTEND;TZID="Europe/Paris":20210415T210000
DTSTAMP:20210224T031322
CREATED:20210101T122051Z
LAST-MODIFIED:20210101T122051Z
UID:6266-1618516800-1618520400@eckankar-essa.org.au
SUMMARY:Satsang "The ECK Satsang Discourses Third Series"  -  Vic
DESCRIPTION:\n			\n			\n				Arahat Name: Lesley. Please contact the Arahata for the Zoom 5 details. Thank you. \n\n			\n			\n		
URL:https://eckankar-essa.org.au/event/satsang-the-eck-satsang-discourses-third-series-vic/2021-04-15/
LOCATION:Zoom 5\, Victoria\, Australia
CATEGORIES:Members Only Events,Satsang Class,Victoria Metro - chela events
ORGANIZER;CN="ECKANKAR":MAILTO:info@eckankarssa.com.au
END:VEVENT
BEGIN:VEVENT
DTSTART;TZID="Europe/Paris":20210424T100000
DTEND;TZID="Europe/Paris":20210424T110000
DTSTAMP:20210224T031322
CREATED:20200525T014056Z
LAST-MODIFIED:20210101T120608Z
UID:6172-1619258400-1619262000@eckankar-essa.org.au
SUMMARY:Satsang "The ECK Dream 2 Discourses"  - Vic
DESCRIPTION:\n			\n			\n				Arahat Name: Mer. Please contact the Arahata for the Zoom 4 details. Thank you. \n\n			\n			\n		
URL:https://eckankar-essa.org.au/event/satsang-the-eck-dream-2-discourses-vic/2021-04-24/
LOCATION:Zoom 4\, Victoria\, Australia
CATEGORIES:Members Only Events,Satsang Class,Victoria Metro - chela events
ORGANIZER;CN="ECKANKAR":MAILTO:info@eckankarssa.com.au
END:VEVENT
END:VCALENDAR