BEGIN:VCALENDAR
VERSION:2.0
PRODID:-//ECKANKAR in Victoria, Tasmania &amp; South Australia - ECPv4.9.6//NONSGML v1.0//EN
CALSCALE:GREGORIAN
METHOD:PUBLISH
X-WR-CALNAME:ECKANKAR in Victoria, Tasmania &amp; South Australia
X-ORIGINAL-URL:https://eckankar-essa.org.au
X-WR-CALDESC:Events for ECKANKAR in Victoria, Tasmania &amp; South Australia
BEGIN:VTIMEZONE
TZID:"Europe/Paris"
BEGIN:DAYLIGHT
TZOFFSETFROM:+0100
TZOFFSETTO:+0200
TZNAME:CEST
DTSTART:20210328T010000
END:DAYLIGHT
BEGIN:STANDARD
TZOFFSETFROM:+0200
TZOFFSETTO:+0100
TZNAME:CET
DTSTART:20211031T010000
END:STANDARD
END:VTIMEZONE
BEGIN:VEVENT
DTSTART;TZID="Europe/Paris":20210227T100000
DTEND;TZID="Europe/Paris":20210227T110000
DTSTAMP:20210224T021951
CREATED:20200525T014056Z
LAST-MODIFIED:20210101T120608Z
UID:6170-1614420000-1614423600@eckankar-essa.org.au
SUMMARY:Satsang "The ECK Dream 2 Discourses"  - Vic
DESCRIPTION:Arahat Name: Mer. Please contact the Arahata for the Zoom 4 details. Thank you. \n
URL:https://eckankar-essa.org.au/event/satsang-the-eck-dream-2-discourses-vic/2021-02-27/
LOCATION:Zoom 4\, Victoria\, Australia
CATEGORIES:Members Only Events,Satsang Class,Victoria Metro - chela events
ORGANIZER;CN="ECKANKAR":MAILTO:info@eckankarssa.com.au
END:VEVENT
BEGIN:VEVENT
DTSTART;TZID="Europe/Paris":20210228T150000
DTEND;TZID="Europe/Paris":20210228T160000
DTSTAMP:20210224T021951
CREATED:20200525T031534Z
LAST-MODIFIED:20210101T120942Z
UID:6131-1614524400-1614528000@eckankar-essa.org.au
SUMMARY:Satsang  "The Master 4 Discourses"  - Vic
DESCRIPTION:Arahat Name: Kate. Please contact the Arahata for the Zoom 6 details. Thank you. \n
URL:https://eckankar-essa.org.au/event/satsang-class-moorabbin-vic-3/2021-02-28/
LOCATION:Zoom 6\, Victoria\, Australia
CATEGORIES:Members Only Events,Satsang Class,Victoria Metro - chela events
ORGANIZER;CN="ECKANKAR":MAILTO:info@eckankarssa.com.au
END:VEVENT
BEGIN:VEVENT
DTSTART;TZID="Europe/Paris":20210307T110000
DTEND;TZID="Europe/Paris":20210307T120000
DTSTAMP:20210224T021951
CREATED:20210101T102153Z
LAST-MODIFIED:20210101T114626Z
UID:6203-1615114800-1615118400@eckankar-essa.org.au
SUMMARY:Satsang "The Precepts of Eckankar"  - Vic
DESCRIPTION:Arahat Name: Maisie. Please contact the Arahata for the Telconference 3 details. Thank you. \n
URL:https://eckankar-essa.org.au/event/satsang-the-precepts-of-eckankar-vic/2021-03-07/
LOCATION:Teleconference 3\, Victoria\, Australia
CATEGORIES:Members Only Events,Satsang Class,Victoria Metro - chela events
ORGANIZER;CN="ECKANKAR":MAILTO:info@eckankarssa.com.au
END:VEVENT
BEGIN:VEVENT
DTSTART;TZID="Europe/Paris":20210309T160000
DTEND;TZID="Europe/Paris":20210309T170000
DTSTAMP:20210224T021951
CREATED:20200525T040934Z
LAST-MODIFIED:20200525T040934Z
UID:6100-1615305600-1615309200@eckankar-essa.org.au
SUMMARY:Satsang Class - Flagstaff Hill SA
DESCRIPTION:
URL:https://eckankar-essa.org.au/event/satsang-class-flagstaff-hill-sa/2021-03-09/
LOCATION:Flagstaff Hill SA\, Private Home ‐ Contact Ellena for Details\, Adelaide\, South Australia\, 5159\, Australia
CATEGORIES:Members Only Events,Satsang Class,South Australia - chela events
ORGANIZER;CN="ECKANKAR":MAILTO:info@eckankarssa.com.au
END:VEVENT
BEGIN:VEVENT
DTSTART;TZID="Europe/Paris":20210309T210000
DTEND;TZID="Europe/Paris":20210309T220000
DTSTAMP:20210224T021951
CREATED:20210101T103558Z
LAST-MODIFIED:20210101T115018Z
UID:6208-1615323600-1615327200@eckankar-essa.org.au
SUMMARY:Satsang "Letters of Light and Sound 2" (persian)  -  vic
DESCRIPTION:Arahat Name: Sherry. Please contact the Arahata for the Telconference 4 details. Thank you. \n
URL:https://eckankar-essa.org.au/event/satsang-letters-of-light-and-sound-2-persian-vic/2021-03-09/
LOCATION:Teleconference 4\, Victoria\, Australia
CATEGORIES:Members Only Events,Satsang Class,Victoria Metro - chela events
ORGANIZER;CN="ECKANKAR":MAILTO:info@eckankarssa.com.au
END:VEVENT
BEGIN:VEVENT
DTSTART;TZID="Europe/Paris":20210310T160000
DTEND;TZID="Europe/Paris":20210310T170000
DTSTAMP:20210224T021951
CREATED:20200525T041544Z
LAST-MODIFIED:20200525T041544Z
UID:6101-1615392000-1615395600@eckankar-essa.org.au
SUMMARY:Satsang Class - Aldinga SA
DESCRIPTION:
URL:https://eckankar-essa.org.au/event/satsang-class-aldinga-sa/2021-03-10/
LOCATION:Aldinga – SA\, Contact Ellena for Details\, South Australia\, 5173\, Australia
CATEGORIES:Members Only Events,Satsang Class,South Australia - chela events
ORGANIZER;CN="ECKANKAR":MAILTO:info@eckankarssa.com.au
END:VEVENT
BEGIN:VEVENT
DTSTART;TZID="Europe/Paris":20210314T110000
DTEND;TZID="Europe/Paris":20210314T120000
DTSTAMP:20210224T021951
CREATED:20190712T040045Z
LAST-MODIFIED:20190712T040045Z
UID:6102-1615719600-1615723200@eckankar-essa.org.au
SUMMARY:Sound of Soul Event - Boronia Vic
DESCRIPTION:The Sound of Soul Events offer you the opportunity to chant HU\, an ancient name for God\, and engage in spiritual conversation. Meet others of like heart who share a desire to explore their own connection with God. At the event there will be a 20 minutes HU Chant followed by spiritual conversation. \n
URL:https://eckankar-essa.org.au/event/sound-of-soul-boronia-2019-09-08/2021-03-14/
LOCATION:Boronia Progress Hall – VIC\, 134 Boronia Road\, Boronia\, Melbourne\, Victoria\, 3155\, Australia
CATEGORIES:Sound of Soul Events,Victoria Metro - Public Events
ORGANIZER;CN="ECKANKAR":MAILTO:info@eckankarssa.com.au
END:VEVENT
BEGIN:VEVENT
DTSTART;TZID="Europe/Paris":20210318T193000
DTEND;TZID="Europe/Paris":20210318T203000
DTSTAMP:20210224T021951
CREATED:20210101T112129Z
LAST-MODIFIED:20210101T120219Z
UID:6216-1616095800-1616099400@eckankar-essa.org.au
SUMMARY:Satsang "Letters of Light and Sound 2"  -  Vic
DESCRIPTION:Arahat Name: Richard. Please contact the Arahata for the Telconference 1 details. Thank you. \n
URL:https://eckankar-essa.org.au/event/satsang-letters-of-light-and-sound-2-vic/2021-03-18/
LOCATION:Teleconference 1\, Victoria\, Australia
CATEGORIES:Members Only Events,Satsang Class,Victoria Metro - chela events
ORGANIZER;CN="ECKANKAR":MAILTO:info@eckankarssa.com.au
END:VEVENT
BEGIN:VEVENT
DTSTART;TZID="Europe/Paris":20210318T200000
DTEND;TZID="Europe/Paris":20210318T210000
DTSTAMP:20210224T021951
CREATED:20210101T122051Z
LAST-MODIFIED:20210101T122051Z
UID:6265-1616097600-1616101200@eckankar-essa.org.au
SUMMARY:Satsang "The ECK Satsang Discourses Third Series"  -  Vic
DESCRIPTION:Arahat Name: Lesley. Please contact the Arahata for the Zoom 5 details. Thank you. \n
URL:https://eckankar-essa.org.au/event/satsang-the-eck-satsang-discourses-third-series-vic/2021-03-18/
LOCATION:Zoom 5\, Victoria\, Australia
CATEGORIES:Members Only Events,Satsang Class,Victoria Metro - chela events
ORGANIZER;CN="ECKANKAR":MAILTO:info@eckankarssa.com.au
END:VEVENT
BEGIN:VEVENT
DTSTART;TZID="Europe/Paris":20210327T100000
DTEND;TZID="Europe/Paris":20210327T110000
DTSTAMP:20210224T021951
CREATED:20200525T014056Z
LAST-MODIFIED:20210101T120608Z
UID:6171-1616839200-1616842800@eckankar-essa.org.au
SUMMARY:Satsang "The ECK Dream 2 Discourses"  - Vic
DESCRIPTION:Arahat Name: Mer. Please contact the Arahata for the Zoom 4 details. Thank you. \n
URL:https://eckankar-essa.org.au/event/satsang-the-eck-dream-2-discourses-vic/2021-03-27/
LOCATION:Zoom 4\, Victoria\, Australia
CATEGORIES:Members Only Events,Satsang Class,Victoria Metro - chela events
ORGANIZER;CN="ECKANKAR":MAILTO:info@eckankarssa.com.au
END:VEVENT
BEGIN:VEVENT
DTSTART;TZID="Europe/Paris":20210328T150000
DTEND;TZID="Europe/Paris":20210328T160000
DTSTAMP:20210224T021951
CREATED:20200525T031534Z
LAST-MODIFIED:20210101T120942Z
UID:6132-1616943600-1616947200@eckankar-essa.org.au
SUMMARY:Satsang  "The Master 4 Discourses"  - Vic
DESCRIPTION:Arahat Name: Kate. Please contact the Arahata for the Zoom 6 details. Thank you. \n
URL:https://eckankar-essa.org.au/event/satsang-class-moorabbin-vic-3/2021-03-28/
LOCATION:Zoom 6\, Victoria\, Australia
CATEGORIES:Members Only Events,Satsang Class,Victoria Metro - chela events
ORGANIZER;CN="ECKANKAR":MAILTO:info@eckankarssa.com.au
END:VEVENT
BEGIN:VEVENT
DTSTART;TZID="Europe/Paris":20210404T110000
DTEND;TZID="Europe/Paris":20210404T120000
DTSTAMP:20210224T021951
CREATED:20210101T102153Z
LAST-MODIFIED:20210101T114627Z
UID:6204-1617534000-1617537600@eckankar-essa.org.au
SUMMARY:Satsang "The Precepts of Eckankar"  - Vic
DESCRIPTION:Arahat Name: Maisie. Please contact the Arahata for the Telconference 3 details. Thank you. \n
URL:https://eckankar-essa.org.au/event/satsang-the-precepts-of-eckankar-vic/2021-04-04/
LOCATION:Teleconference 3\, Victoria\, Australia
CATEGORIES:Members Only Events,Satsang Class,Victoria Metro - chela events
ORGANIZER;CN="ECKANKAR":MAILTO:info@eckankarssa.com.au
END:VEVENT
BEGIN:VEVENT
DTSTART;TZID="Europe/Paris":20210411T110000
DTEND;TZID="Europe/Paris":20210411T120000
DTSTAMP:20210224T021951
CREATED:20190712T040045Z
LAST-MODIFIED:20190712T040045Z
UID:6106-1618138800-1618142400@eckankar-essa.org.au
SUMMARY:Sound of Soul Event - Boronia Vic
DESCRIPTION:The Sound of Soul Events offer you the opportunity to chant HU\, an ancient name for God\, and engage in spiritual conversation. Meet others of like heart who share a desire to explore their own connection with God. At the event there will be a 20 minutes HU Chant followed by spiritual conversation. \n
URL:https://eckankar-essa.org.au/event/sound-of-soul-boronia-2019-09-08/2021-04-11/
LOCATION:Boronia Progress Hall – VIC\, 134 Boronia Road\, Boronia\, Melbourne\, Victoria\, 3155\, Australia
CATEGORIES:Sound of Soul Events,Victoria Metro - Public Events
ORGANIZER;CN="ECKANKAR":MAILTO:info@eckankarssa.com.au
END:VEVENT
BEGIN:VEVENT
DTSTART;TZID="Europe/Paris":20210413T160000
DTEND;TZID="Europe/Paris":20210413T170000
DTSTAMP:20210224T021951
CREATED:20200525T040934Z
LAST-MODIFIED:20200525T040934Z
UID:6107-1618329600-1618333200@eckankar-essa.org.au
SUMMARY:Satsang Class - Flagstaff Hill SA
DESCRIPTION:
URL:https://eckankar-essa.org.au/event/satsang-class-flagstaff-hill-sa/2021-04-13/
LOCATION:Flagstaff Hill SA\, Private Home ‐ Contact Ellena for Details\, Adelaide\, South Australia\, 5159\, Australia
CATEGORIES:Members Only Events,Satsang Class,South Australia - chela events
ORGANIZER;CN="ECKANKAR":MAILTO:info@eckankarssa.com.au
END:VEVENT
BEGIN:VEVENT
DTSTART;TZID="Europe/Paris":20210413T210000
DTEND;TZID="Europe/Paris":20210413T220000
DTSTAMP:20210224T021951
CREATED:20210101T103558Z
LAST-MODIFIED:20210101T115018Z
UID:6209-1618347600-1618351200@eckankar-essa.org.au
SUMMARY:Satsang "Letters of Light and Sound 2" (persian)  -  vic
DESCRIPTION:Arahat Name: Sherry. Please contact the Arahata for the Telconference 4 details. Thank you. \n
URL:https://eckankar-essa.org.au/event/satsang-letters-of-light-and-sound-2-persian-vic/2021-04-13/
LOCATION:Teleconference 4\, Victoria\, Australia
CATEGORIES:Members Only Events,Satsang Class,Victoria Metro - chela events
ORGANIZER;CN="ECKANKAR":MAILTO:info@eckankarssa.com.au
END:VEVENT
BEGIN:VEVENT
DTSTART;TZID="Europe/Paris":20210414T160000
DTEND;TZID="Europe/Paris":20210414T170000
DTSTAMP:20210224T021951
CREATED:20200525T041544Z
LAST-MODIFIED:20200525T041544Z
UID:6108-1618416000-1618419600@eckankar-essa.org.au
SUMMARY:Satsang Class - Aldinga SA
DESCRIPTION:
URL:https://eckankar-essa.org.au/event/satsang-class-aldinga-sa/2021-04-14/
LOCATION:Aldinga – SA\, Contact Ellena for Details\, South Australia\, 5173\, Australia
CATEGORIES:Members Only Events,Satsang Class,South Australia - chela events
ORGANIZER;CN="ECKANKAR":MAILTO:info@eckankarssa.com.au
END:VEVENT
BEGIN:VEVENT
DTSTART;TZID="Europe/Paris":20210415T193000
DTEND;TZID="Europe/Paris":20210415T203000
DTSTAMP:20210224T021951
CREATED:20210101T112129Z
LAST-MODIFIED:20210101T120219Z
UID:6217-1618515000-1618518600@eckankar-essa.org.au
SUMMARY:Satsang "Letters of Light and Sound 2"  -  Vic
DESCRIPTION:Arahat Name: Richard. Please contact the Arahata for the Telconference 1 details. Thank you. \n
URL:https://eckankar-essa.org.au/event/satsang-letters-of-light-and-sound-2-vic/2021-04-15/
LOCATION:Teleconference 1\, Victoria\, Australia
CATEGORIES:Members Only Events,Satsang Class,Victoria Metro - chela events
ORGANIZER;CN="ECKANKAR":MAILTO:info@eckankarssa.com.au
END:VEVENT
BEGIN:VEVENT
DTSTART;TZID="Europe/Paris":20210415T200000
DTEND;TZID="Europe/Paris":20210415T210000
DTSTAMP:20210224T021951
CREATED:20210101T122051Z
LAST-MODIFIED:20210101T122051Z
UID:6266-1618516800-1618520400@eckankar-essa.org.au
SUMMARY:Satsang "The ECK Satsang Discourses Third Series"  -  Vic
DESCRIPTION:Arahat Name: Lesley. Please contact the Arahata for the Zoom 5 details. Thank you. \n
URL:https://eckankar-essa.org.au/event/satsang-the-eck-satsang-discourses-third-series-vic/2021-04-15/
LOCATION:Zoom 5\, Victoria\, Australia
CATEGORIES:Members Only Events,Satsang Class,Victoria Metro - chela events
ORGANIZER;CN="ECKANKAR":MAILTO:info@eckankarssa.com.au
END:VEVENT
BEGIN:VEVENT
DTSTART;TZID="Europe/Paris":20210424T100000
DTEND;TZID="Europe/Paris":20210424T110000
DTSTAMP:20210224T021951
CREATED:20200525T014056Z
LAST-MODIFIED:20210101T120608Z
UID:6172-1619258400-1619262000@eckankar-essa.org.au
SUMMARY:Satsang "The ECK Dream 2 Discourses"  - Vic
DESCRIPTION:Arahat Name: Mer. Please contact the Arahata for the Zoom 4 details. Thank you. \n
URL:https://eckankar-essa.org.au/event/satsang-the-eck-dream-2-discourses-vic/2021-04-24/
LOCATION:Zoom 4\, Victoria\, Australia
CATEGORIES:Members Only Events,Satsang Class,Victoria Metro - chela events
ORGANIZER;CN="ECKANKAR":MAILTO:info@eckankarssa.com.au
END:VEVENT
BEGIN:VEVENT
DTSTART;TZID="Europe/Paris":20210425T150000
DTEND;TZID="Europe/Paris":20210425T160000
DTSTAMP:20210224T021951
CREATED:20200525T031534Z
LAST-MODIFIED:20210101T120943Z
UID:6133-1619362800-1619366400@eckankar-essa.org.au
SUMMARY:Satsang  "The Master 4 Discourses"  - Vic
DESCRIPTION:Arahat Name: Kate. Please contact the Arahata for the Zoom 6 details. Thank you. \n
URL:https://eckankar-essa.org.au/event/satsang-class-moorabbin-vic-3/2021-04-25/
LOCATION:Zoom 6\, Victoria\, Australia
CATEGORIES:Members Only Events,Satsang Class,Victoria Metro - chela events
ORGANIZER;CN="ECKANKAR":MAILTO:info@eckankarssa.com.au
END:VEVENT
BEGIN:VEVENT
DTSTART;TZID="Europe/Paris":20210502T110000
DTEND;TZID="Europe/Paris":20210502T120000
DTSTAMP:20210224T021951
CREATED:20210101T102153Z
LAST-MODIFIED:20210101T102153Z
UID:6267-1619953200-1619956800@eckankar-essa.org.au
SUMMARY:Satsang "The Precepts of Eckankar"  - Vic
DESCRIPTION:Arahat Name: Maisie. Please contact the Arahata for the Telconference 3 details. Thank you. \n
URL:https://eckankar-essa.org.au/event/satsang-the-precepts-of-eckankar-vic/2021-05-02/
LOCATION:Teleconference 3\, Victoria\, Australia
CATEGORIES:Members Only Events,Satsang Class,Victoria Metro - chela events
ORGANIZER;CN="ECKANKAR":MAILTO:info@eckankarssa.com.au
END:VEVENT
BEGIN:VEVENT
DTSTART;TZID="Europe/Paris":20210509T110000
DTEND;TZID="Europe/Paris":20210509T120000
DTSTAMP:20210224T021951
CREATED:20190712T040045Z
LAST-MODIFIED:20190712T040045Z
UID:6274-1620558000-1620561600@eckankar-essa.org.au
SUMMARY:Sound of Soul Event - Boronia Vic
DESCRIPTION:The Sound of Soul Events offer you the opportunity to chant HU\, an ancient name for God\, and engage in spiritual conversation. Meet others of like heart who share a desire to explore their own connection with God. At the event there will be a 20 minutes HU Chant followed by spiritual conversation. \n
URL:https://eckankar-essa.org.au/event/sound-of-soul-boronia-2019-09-08/2021-05-09/
LOCATION:Boronia Progress Hall – VIC\, 134 Boronia Road\, Boronia\, Melbourne\, Victoria\, 3155\, Australia
CATEGORIES:Sound of Soul Events,Victoria Metro - Public Events
ORGANIZER;CN="ECKANKAR":MAILTO:info@eckankarssa.com.au
END:VEVENT
BEGIN:VEVENT
DTSTART;TZID="Europe/Paris":20210511T160000
DTEND;TZID="Europe/Paris":20210511T170000
DTSTAMP:20210224T021951
CREATED:20200525T040934Z
LAST-MODIFIED:20200525T040934Z
UID:6275-1620748800-1620752400@eckankar-essa.org.au
SUMMARY:Satsang Class - Flagstaff Hill SA
DESCRIPTION:
URL:https://eckankar-essa.org.au/event/satsang-class-flagstaff-hill-sa/2021-05-11/
LOCATION:Flagstaff Hill SA\, Private Home ‐ Contact Ellena for Details\, Adelaide\, South Australia\, 5159\, Australia
CATEGORIES:Members Only Events,Satsang Class,South Australia - chela events
ORGANIZER;CN="ECKANKAR":MAILTO:info@eckankarssa.com.au
END:VEVENT
BEGIN:VEVENT
DTSTART;TZID="Europe/Paris":20210511T210000
DTEND;TZID="Europe/Paris":20210511T220000
DTSTAMP:20210224T021951
CREATED:20210101T103558Z
LAST-MODIFIED:20210101T103558Z
UID:6276-1620766800-1620770400@eckankar-essa.org.au
SUMMARY:Satsang "Letters of Light and Sound 2" (persian)  -  vic
DESCRIPTION:Arahat Name: Sherry. Please contact the Arahata for the Telconference 4 details. Thank you. \n
URL:https://eckankar-essa.org.au/event/satsang-letters-of-light-and-sound-2-persian-vic/2021-05-11/
LOCATION:Teleconference 4\, Victoria\, Australia
CATEGORIES:Members Only Events,Satsang Class,Victoria Metro - chela events
ORGANIZER;CN="ECKANKAR":MAILTO:info@eckankarssa.com.au
END:VEVENT
BEGIN:VEVENT
DTSTART;TZID="Europe/Paris":20210512T160000
DTEND;TZID="Europe/Paris":20210512T170000
DTSTAMP:20210224T021951
CREATED:20200525T041544Z
LAST-MODIFIED:20200525T041544Z
UID:6277-1620835200-1620838800@eckankar-essa.org.au
SUMMARY:Satsang Class - Aldinga SA
DESCRIPTION:
URL:https://eckankar-essa.org.au/event/satsang-class-aldinga-sa/2021-05-12/
LOCATION:Aldinga – SA\, Contact Ellena for Details\, South Australia\, 5173\, Australia
CATEGORIES:Members Only Events,Satsang Class,South Australia - chela events
ORGANIZER;CN="ECKANKAR":MAILTO:info@eckankarssa.com.au
END:VEVENT
BEGIN:VEVENT
DTSTART;TZID="Europe/Paris":20210520T193000
DTEND;TZID="Europe/Paris":20210520T203000
DTSTAMP:20210224T021951
CREATED:20210101T112129Z
LAST-MODIFIED:20210101T112129Z
UID:6279-1621539000-1621542600@eckankar-essa.org.au
SUMMARY:Satsang "Letters of Light and Sound 2"  -  Vic
DESCRIPTION:Arahat Name: Richard. Please contact the Arahata for the Telconference 1 details. Thank you. \n
URL:https://eckankar-essa.org.au/event/satsang-letters-of-light-and-sound-2-vic/2021-05-20/
LOCATION:Teleconference 1\, Victoria\, Australia
CATEGORIES:Members Only Events,Satsang Class,Victoria Metro - chela events
ORGANIZER;CN="ECKANKAR":MAILTO:info@eckankarssa.com.au
END:VEVENT
BEGIN:VEVENT
DTSTART;TZID="Europe/Paris":20210520T200000
DTEND;TZID="Europe/Paris":20210520T210000
DTSTAMP:20210224T021951
CREATED:20210101T122051Z
LAST-MODIFIED:20210101T122051Z
UID:6280-1621540800-1621544400@eckankar-essa.org.au
SUMMARY:Satsang "The ECK Satsang Discourses Third Series"  -  Vic
DESCRIPTION:Arahat Name: Lesley. Please contact the Arahata for the Zoom 5 details. Thank you. \n
URL:https://eckankar-essa.org.au/event/satsang-the-eck-satsang-discourses-third-series-vic/2021-05-20/
LOCATION:Zoom 5\, Victoria\, Australia
CATEGORIES:Members Only Events,Satsang Class,Victoria Metro - chela events
ORGANIZER;CN="ECKANKAR":MAILTO:info@eckankarssa.com.au
END:VEVENT
BEGIN:VEVENT
DTSTART;TZID="Europe/Paris":20210606T110000
DTEND;TZID="Europe/Paris":20210606T120000
DTSTAMP:20210224T021951
CREATED:20210101T102153Z
LAST-MODIFIED:20210101T102153Z
UID:6281-1622977200-1622980800@eckankar-essa.org.au
SUMMARY:Satsang "The Precepts of Eckankar"  - Vic
DESCRIPTION:Arahat Name: Maisie. Please contact the Arahata for the Telconference 3 details. Thank you. \n
URL:https://eckankar-essa.org.au/event/satsang-the-precepts-of-eckankar-vic/2021-06-06/
LOCATION:Teleconference 3\, Victoria\, Australia
CATEGORIES:Members Only Events,Satsang Class,Victoria Metro - chela events
ORGANIZER;CN="ECKANKAR":MAILTO:info@eckankarssa.com.au
END:VEVENT
BEGIN:VEVENT
DTSTART;TZID="Europe/Paris":20210608T160000
DTEND;TZID="Europe/Paris":20210608T170000
DTSTAMP:20210224T021951
CREATED:20200525T040934Z
LAST-MODIFIED:20200525T040934Z
UID:6282-1623168000-1623171600@eckankar-essa.org.au
SUMMARY:Satsang Class - Flagstaff Hill SA
DESCRIPTION:
URL:https://eckankar-essa.org.au/event/satsang-class-flagstaff-hill-sa/2021-06-08/
LOCATION:Flagstaff Hill SA\, Private Home ‐ Contact Ellena for Details\, Adelaide\, South Australia\, 5159\, Australia
CATEGORIES:Members Only Events,Satsang Class,South Australia - chela events
ORGANIZER;CN="ECKANKAR":MAILTO:info@eckankarssa.com.au
END:VEVENT
BEGIN:VEVENT
DTSTART;TZID="Europe/Paris":20210608T210000
DTEND;TZID="Europe/Paris":20210608T220000
DTSTAMP:20210224T021951
CREATED:20210101T103558Z
LAST-MODIFIED:20210101T103558Z
UID:6283-1623186000-1623189600@eckankar-essa.org.au
SUMMARY:Satsang "Letters of Light and Sound 2" (persian)  -  vic
DESCRIPTION:Arahat Name: Sherry. Please contact the Arahata for the Telconference 4 details. Thank you. \n
URL:https://eckankar-essa.org.au/event/satsang-letters-of-light-and-sound-2-persian-vic/2021-06-08/
LOCATION:Teleconference 4\, Victoria\, Australia
CATEGORIES:Members Only Events,Satsang Class,Victoria Metro - chela events
ORGANIZER;CN="ECKANKAR":MAILTO:info@eckankarssa.com.au
END:VEVENT
END:VCALENDAR